Package: beachmat Version: 2.20.0 Command: /home/biocbuild/R/R-beta-2024-04-15_r86425/bin/R CMD check --install=check:beachmat.install-out.txt --library=/home/biocbuild/R/R-beta-2024-04-15_r86425/site-library --no-vignettes --timings beachmat_2.20.0.tar.gz StartedAt: 2024-05-09 05:03:30 -0000 (Thu, 09 May 2024) EndedAt: 2024-05-09 05:13:04 -0000 (Thu, 09 May 2024) EllapsedTime: 574.0 seconds RetCode: 0 Status: OK CheckDir: beachmat.Rcheck Warnings: 0