Package: beachmat Version: 2.20.0 Command: /Library/Frameworks/R.framework/Resources/bin/R CMD check --install=check:beachmat.install-out.txt --library=/Library/Frameworks/R.framework/Resources/library --no-vignettes --timings beachmat_2.20.0.tar.gz StartedAt: 2024-06-10 08:16:17 -0400 (Mon, 10 Jun 2024) EndedAt: 2024-06-10 08:29:31 -0400 (Mon, 10 Jun 2024) EllapsedTime: 794.4 seconds RetCode: 0 Status: OK CheckDir: beachmat.Rcheck Warnings: 0