Package: beachmat Version: 2.20.0 Command: /Library/Frameworks/R.framework/Resources/bin/R CMD build --keep-empty-dirs --no-resave-data beachmat StartedAt: 2024-06-09 18:26:58 -0400 (Sun, 09 Jun 2024) EndedAt: 2024-06-09 18:32:13 -0400 (Sun, 09 Jun 2024) EllapsedTime: 315.0 seconds RetCode: 0 Status: OK PackageFile: beachmat_2.20.0.tar.gz PackageFileSize: 500 KiB