Package: beachmat Version: 2.20.0 Command: rm -rf beachmat.buildbin-libdir && mkdir beachmat.buildbin-libdir && /Users/biocbuild/BBS/utils/build-universal.sh beachmat_2.20.0.tar.gz /Library/Frameworks/R.framework/Resources/bin/R beachmat.buildbin-libdir StartedAt: 2024-06-11 10:15:23 -0400 (Tue, 11 Jun 2024) EndedAt: 2024-06-11 10:22:42 -0400 (Tue, 11 Jun 2024) EllapsedTime: 439.1 seconds RetCode: 0 Status: OK PackageFile: beachmat_2.20.0.tgz PackageFileSize: 1.999 MiB