Package: bcSeq Version: 1.26.0 Command: rm -rf bcSeq.buildbin-libdir && mkdir bcSeq.buildbin-libdir && E:\biocbuild\bbs-3.19-bioc\R\bin\R.exe CMD INSTALL --build --library=bcSeq.buildbin-libdir bcSeq_1.26.0.tar.gz StartedAt: 2024-10-17 07:22:46 -0400 (Thu, 17 Oct 2024) EndedAt: 2024-10-17 07:23:29 -0400 (Thu, 17 Oct 2024) EllapsedTime: 43.1 seconds RetCode: 0 Status: OK PackageFile: bcSeq_1.26.0.zip PackageFileSize: 679.3 KiB