Package: bcSeq Version: 1.26.0 Command: F:\biocbuild\bbs-3.19-bioc\R\bin\R.exe CMD INSTALL bcSeq StartedAt: 2024-06-26 15:49:31 -0400 (Wed, 26 Jun 2024) EndedAt: 2024-06-26 15:50:43 -0400 (Wed, 26 Jun 2024) EllapsedTime: 72.0 seconds RetCode: 0 Status: OK