Package: bcSeq Version: 1.26.0 Command: /Library/Frameworks/R.framework/Resources/bin/R CMD build --keep-empty-dirs --no-resave-data bcSeq StartedAt: 2024-06-09 15:54:56 -0400 (Sun, 09 Jun 2024) EndedAt: 2024-06-09 15:56:04 -0400 (Sun, 09 Jun 2024) EllapsedTime: 67.7 seconds RetCode: 0 Status: OK PackageFile: bcSeq_1.26.0.tar.gz PackageFileSize: 241.2 KiB