Package: baySeq Version: 2.38.0 Command: E:\biocbuild\bbs-3.19-bioc\R\bin\R.exe CMD check --no-multiarch --install=check:baySeq.install-out.txt --library=E:\biocbuild\bbs-3.19-bioc\R\library --no-vignettes --timings baySeq_2.38.0.tar.gz StartedAt: 2024-10-16 23:03:45 -0400 (Wed, 16 Oct 2024) EndedAt: 2024-10-16 23:07:11 -0400 (Wed, 16 Oct 2024) EllapsedTime: 205.3 seconds RetCode: 0 Status: OK CheckDir: baySeq.Rcheck Warnings: 0