Package: baySeq Version: 2.38.0 Command: chmod a+r baySeq -R && E:\biocbuild\bbs-3.19-bioc\R\bin\R.exe CMD build --keep-empty-dirs --no-resave-data baySeq StartedAt: 2024-10-16 17:41:19 -0400 (Wed, 16 Oct 2024) EndedAt: 2024-10-16 17:50:08 -0400 (Wed, 16 Oct 2024) EllapsedTime: 528.9 seconds RetCode: 0 Status: OK PackageFile: baySeq_2.38.0.tar.gz PackageFileSize: 1.126 MiB