Package: baySeq Version: 2.38.0 Command: rm -rf baySeq.buildbin-libdir && mkdir baySeq.buildbin-libdir && E:\biocbuild\bbs-3.19-bioc\R\bin\R.exe CMD INSTALL --build --library=baySeq.buildbin-libdir baySeq_2.38.0.tar.gz StartedAt: 2024-10-17 07:22:42 -0400 (Thu, 17 Oct 2024) EndedAt: 2024-10-17 07:23:17 -0400 (Thu, 17 Oct 2024) EllapsedTime: 34.8 seconds RetCode: 0 Status: OK PackageFile: baySeq_2.38.0.zip PackageFileSize: 1.615 MiB