Package: baySeq Version: 2.38.0 Command: /home/biocbuild/bbs-3.19-bioc/R/bin/R CMD check --install=check:baySeq.install-out.txt --library=/home/biocbuild/bbs-3.19-bioc/R/site-library --timings baySeq_2.38.0.tar.gz StartedAt: 2024-10-16 21:52:04 -0400 (Wed, 16 Oct 2024) EndedAt: 2024-10-16 22:00:01 -0400 (Wed, 16 Oct 2024) EllapsedTime: 476.9 seconds RetCode: 0 Status: OK CheckDir: baySeq.Rcheck Warnings: 0