Package: baySeq Version: 2.38.0 Command: /home/biocbuild/bbs-3.19-bioc/R/bin/R CMD build --keep-empty-dirs --no-resave-data baySeq StartedAt: 2024-10-16 17:04:07 -0400 (Wed, 16 Oct 2024) EndedAt: 2024-10-16 17:09:32 -0400 (Wed, 16 Oct 2024) EllapsedTime: 325.5 seconds RetCode: 0 Status: OK PackageFile: baySeq_2.38.0.tar.gz PackageFileSize: 1.124 MiB