Package: baySeq Version: 2.38.0 Command: /Library/Frameworks/R.framework/Resources/bin/R CMD check --install=check:baySeq.install-out.txt --library=/Library/Frameworks/R.framework/Resources/library --no-vignettes --timings baySeq_2.38.0.tar.gz StartedAt: 2024-10-17 13:16:16 -0400 (Thu, 17 Oct 2024) EndedAt: 2024-10-17 13:19:40 -0400 (Thu, 17 Oct 2024) EllapsedTime: 203.2 seconds RetCode: 0 Status: OK CheckDir: baySeq.Rcheck Warnings: 0