Package: bayNorm Version: 1.22.0 Command: E:\biocbuild\bbs-3.19-bioc\R\bin\R.exe CMD check --no-multiarch --install=check:bayNorm.install-out.txt --library=E:\biocbuild\bbs-3.19-bioc\R\library --no-vignettes --timings bayNorm_1.22.0.tar.gz StartedAt: 2024-10-16 23:03:43 -0400 (Wed, 16 Oct 2024) EndedAt: 2024-10-16 23:07:15 -0400 (Wed, 16 Oct 2024) EllapsedTime: 212.6 seconds RetCode: 0 Status: OK CheckDir: bayNorm.Rcheck Warnings: 0