Package: bayNorm Version: 1.22.0 Command: rm -rf bayNorm.buildbin-libdir && mkdir bayNorm.buildbin-libdir && E:\biocbuild\bbs-3.19-bioc\R\bin\R.exe CMD INSTALL --build --library=bayNorm.buildbin-libdir bayNorm_1.22.0.tar.gz StartedAt: 2024-10-17 07:22:40 -0400 (Thu, 17 Oct 2024) EndedAt: 2024-10-17 07:23:36 -0400 (Thu, 17 Oct 2024) EllapsedTime: 55.7 seconds RetCode: 0 Status: OK PackageFile: bayNorm_1.22.0.zip PackageFileSize: 851.5 KiB