Package: bayNorm Version: 1.22.0 Command: /Library/Frameworks/R.framework/Resources/bin/R CMD build --keep-empty-dirs --no-resave-data bayNorm StartedAt: 2024-10-16 17:13:48 -0400 (Wed, 16 Oct 2024) EndedAt: 2024-10-16 17:16:32 -0400 (Wed, 16 Oct 2024) EllapsedTime: 164.0 seconds RetCode: 0 Status: OK PackageFile: bayNorm_1.22.0.tar.gz PackageFileSize: 1.526 MiB