Package: bayNorm Version: 1.22.0 Command: rm -rf bayNorm.buildbin-libdir && mkdir bayNorm.buildbin-libdir && /Users/biocbuild/BBS/utils/build-universal.sh bayNorm_1.22.0.tar.gz /Library/Frameworks/R.framework/Resources/bin/R bayNorm.buildbin-libdir StartedAt: 2024-06-11 10:14:14 -0400 (Tue, 11 Jun 2024) EndedAt: 2024-06-11 10:15:44 -0400 (Tue, 11 Jun 2024) EllapsedTime: 90.1 seconds RetCode: 0 Status: OK PackageFile: bayNorm_1.22.0.tgz PackageFileSize: 465.1 KiB