Package: batchelor Version: 1.20.0 Command: chmod a+r batchelor -R && E:\biocbuild\bbs-3.19-bioc\R\bin\R.exe CMD build --keep-empty-dirs --no-resave-data batchelor StartedAt: 2024-10-16 17:41:01 -0400 (Wed, 16 Oct 2024) EndedAt: 2024-10-16 17:45:33 -0400 (Wed, 16 Oct 2024) EllapsedTime: 271.6 seconds RetCode: 0 Status: OK PackageFile: batchelor_1.20.0.tar.gz PackageFileSize: 971.7 KiB