Package: batchelor Version: 1.20.0 Command: F:\biocbuild\bbs-3.19-bioc\R\bin\R.exe CMD INSTALL batchelor StartedAt: 2024-06-26 16:42:36 -0400 (Wed, 26 Jun 2024) EndedAt: 2024-06-26 16:43:47 -0400 (Wed, 26 Jun 2024) EllapsedTime: 71.0 seconds RetCode: 0 Status: OK