Package: batchelor Version: 1.20.0 Command: /home/biocbuild/bbs-3.19-bioc/R/bin/R CMD INSTALL batchelor StartedAt: 2024-10-16 16:37:30 -0400 (Wed, 16 Oct 2024) EndedAt: 2024-10-16 16:38:10 -0400 (Wed, 16 Oct 2024) EllapsedTime: 40.2 seconds RetCode: 0 Status: OK