Package: batchelor Version: 1.20.0 Command: /home/biocbuild/bbs-3.19-bioc/R/bin/R CMD build --keep-empty-dirs --no-resave-data batchelor StartedAt: 2024-10-16 17:03:04 -0400 (Wed, 16 Oct 2024) EndedAt: 2024-10-16 17:06:11 -0400 (Wed, 16 Oct 2024) EllapsedTime: 187.3 seconds RetCode: 0 Status: OK PackageFile: batchelor_1.20.0.tar.gz PackageFileSize: 1.929 MiB