Package: batchelor Version: 1.20.0 Command: /Library/Frameworks/R.framework/Resources/bin/R CMD build --keep-empty-dirs --no-resave-data batchelor StartedAt: 2024-10-16 17:13:08 -0400 (Wed, 16 Oct 2024) EndedAt: 2024-10-16 17:20:17 -0400 (Wed, 16 Oct 2024) EllapsedTime: 428.8 seconds RetCode: 0 Status: OK PackageFile: batchelor_1.20.0.tar.gz PackageFileSize: 2.051 MiB