Package: batchelor Version: 1.20.0 Command: /Library/Frameworks/R.framework/Resources/bin/R CMD check --install=check:batchelor.install-out.txt --library=/Library/Frameworks/R.framework/Resources/library --no-vignettes --timings batchelor_1.20.0.tar.gz StartedAt: 2024-06-10 08:09:16 -0400 (Mon, 10 Jun 2024) EndedAt: 2024-06-10 08:19:56 -0400 (Mon, 10 Jun 2024) EllapsedTime: 640.0 seconds RetCode: 0 Status: OK CheckDir: batchelor.Rcheck Warnings: 0