Package: batchelor Version: 1.20.0 Command: /Library/Frameworks/R.framework/Resources/bin/R CMD INSTALL batchelor StartedAt: 2024-10-16 18:24:13 -0400 (Wed, 16 Oct 2024) EndedAt: 2024-10-16 18:24:59 -0400 (Wed, 16 Oct 2024) EllapsedTime: 46.5 seconds RetCode: 0 Status: OK