Package: batchelor Version: 1.20.0 Command: /Library/Frameworks/R.framework/Resources/bin/R CMD build --keep-empty-dirs --no-resave-data batchelor StartedAt: 2024-10-16 19:53:48 -0400 (Wed, 16 Oct 2024) EndedAt: 2024-10-16 19:57:27 -0400 (Wed, 16 Oct 2024) EllapsedTime: 219.6 seconds RetCode: 0 Status: OK PackageFile: batchelor_1.20.0.tar.gz PackageFileSize: 2.137 MiB