Package: basilisk Version: 1.16.0 Command: E:\biocbuild\bbs-3.19-bioc\R\bin\R.exe CMD check --no-multiarch --install=check:basilisk.install-out.txt --library=E:\biocbuild\bbs-3.19-bioc\R\library --no-vignettes --timings basilisk_1.16.0.tar.gz StartedAt: 2024-10-16 23:02:40 -0400 (Wed, 16 Oct 2024) EndedAt: 2024-10-16 23:03:41 -0400 (Wed, 16 Oct 2024) EllapsedTime: 61.5 seconds RetCode: 0 Status: OK CheckDir: basilisk.Rcheck Warnings: 0