Package: basilisk Version: 1.16.0 Command: rm -rf basilisk.buildbin-libdir && mkdir basilisk.buildbin-libdir && E:\biocbuild\bbs-3.19-bioc\R\bin\R.exe CMD INSTALL --build --library=basilisk.buildbin-libdir basilisk_1.16.0.tar.gz StartedAt: 2024-10-17 07:22:23 -0400 (Thu, 17 Oct 2024) EndedAt: 2024-10-17 07:22:42 -0400 (Thu, 17 Oct 2024) EllapsedTime: 18.4 seconds RetCode: 0 Status: OK PackageFile: basilisk_1.16.0.zip PackageFileSize: 318.1 KiB