Package: basilisk Version: 1.16.0 Command: rm -rf basilisk.buildbin-libdir && mkdir basilisk.buildbin-libdir && F:\biocbuild\bbs-3.19-bioc\R\bin\R.exe CMD INSTALL --build --library=basilisk.buildbin-libdir basilisk_1.16.0.tar.gz StartedAt: 2024-06-27 07:51:43 -0400 (Thu, 27 Jun 2024) EndedAt: 2024-06-27 07:52:08 -0400 (Thu, 27 Jun 2024) EllapsedTime: 24.5 seconds RetCode: 0 Status: OK PackageFile: basilisk_1.16.0.zip PackageFileSize: 318 KiB