Package: basilisk Version: 1.16.0 Command: /home/biocbuild/bbs-3.19-bioc/R/bin/R CMD INSTALL basilisk StartedAt: 2024-10-16 15:53:20 -0400 (Wed, 16 Oct 2024) EndedAt: 2024-10-16 15:53:28 -0400 (Wed, 16 Oct 2024) EllapsedTime: 8.1 seconds RetCode: 0 Status: OK