Package: basilisk Version: 1.16.0 Command: /Library/Frameworks/R.framework/Resources/bin/R CMD build --keep-empty-dirs --no-resave-data basilisk StartedAt: 2024-10-16 19:53:16 -0400 (Wed, 16 Oct 2024) EndedAt: 2024-10-16 19:58:52 -0400 (Wed, 16 Oct 2024) EllapsedTime: 336.7 seconds RetCode: 0 Status: OK PackageFile: basilisk_1.16.0.tar.gz PackageFileSize: 261.7 KiB