Package: basilisk Version: 1.16.0 Command: rm -rf basilisk.buildbin-libdir && mkdir basilisk.buildbin-libdir && /Users/biocbuild/BBS/utils/build-universal.sh basilisk_1.16.0.tar.gz /Library/Frameworks/R.framework/Resources/bin/R basilisk.buildbin-libdir StartedAt: 2024-10-18 17:24:06 -0400 (Fri, 18 Oct 2024) EndedAt: 2024-10-18 17:24:17 -0400 (Fri, 18 Oct 2024) EllapsedTime: 11.3 seconds RetCode: 0 Status: OK PackageFile: basilisk_1.16.0.tgz PackageFileSize: 305 KiB