Package: basilisk.utils Version: 1.16.0 Command: E:\biocbuild\bbs-3.19-bioc\R\bin\R.exe CMD INSTALL basilisk.utils StartedAt: 2024-10-16 16:04:31 -0400 (Wed, 16 Oct 2024) EndedAt: 2024-10-16 16:04:58 -0400 (Wed, 16 Oct 2024) EllapsedTime: 26.4 seconds RetCode: 0 Status: OK