Package: basilisk.utils Version: 1.16.0 Command: /Library/Frameworks/R.framework/Resources/bin/R CMD INSTALL basilisk.utils StartedAt: 2024-06-09 15:06:14 -0400 (Sun, 09 Jun 2024) EndedAt: 2024-06-09 15:06:35 -0400 (Sun, 09 Jun 2024) EllapsedTime: 21.0 seconds RetCode: 0 Status: OK