Package: basilisk.utils Version: 1.16.0 Command: /Library/Frameworks/R.framework/Resources/bin/R CMD build --keep-empty-dirs --no-resave-data basilisk.utils StartedAt: 2024-06-09 15:54:11 -0400 (Sun, 09 Jun 2024) EndedAt: 2024-06-09 15:54:18 -0400 (Sun, 09 Jun 2024) EllapsedTime: 6.8 seconds RetCode: 0 Status: OK PackageFile: basilisk.utils_1.16.0.tar.gz PackageFileSize: 234.6 KiB