Package: basilisk.utils Version: 1.16.0 Command: rm -rf basilisk.utils.buildbin-libdir && mkdir basilisk.utils.buildbin-libdir && /Users/biocbuild/BBS/utils/build-universal.sh basilisk.utils_1.16.0.tar.gz /Library/Frameworks/R.framework/Resources/bin/R basilisk.utils.buildbin-libdir StartedAt: 2024-10-18 17:24:15 -0400 (Fri, 18 Oct 2024) EndedAt: 2024-10-18 17:24:19 -0400 (Fri, 18 Oct 2024) EllapsedTime: 4.6 seconds RetCode: 0 Status: OK PackageFile: basilisk.utils_1.16.0.tgz PackageFileSize: 284.8 KiB