Package: basecallQC Version: 1.28.0 Command: E:\biocbuild\bbs-3.19-bioc\R\bin\R.exe CMD INSTALL basecallQC StartedAt: 2024-10-16 16:39:42 -0400 (Wed, 16 Oct 2024) EndedAt: 2024-10-16 16:40:52 -0400 (Wed, 16 Oct 2024) EllapsedTime: 70.3 seconds RetCode: 0 Status: OK