Package: basecallQC Version: 1.28.0 Command: /home/biocbuild/bbs-3.19-bioc/R/bin/R CMD build --keep-empty-dirs --no-resave-data basecallQC StartedAt: 2024-10-16 17:01:47 -0400 (Wed, 16 Oct 2024) EndedAt: 2024-10-16 17:03:05 -0400 (Wed, 16 Oct 2024) EllapsedTime: 78.1 seconds RetCode: 0 Status: OK PackageFile: basecallQC_1.28.0.tar.gz PackageFileSize: 1.474 MiB