Package: basecallQC Version: 1.28.0 Command: /Library/Frameworks/R.framework/Resources/bin/R CMD build --keep-empty-dirs --no-resave-data basecallQC StartedAt: 2024-10-16 17:12:05 -0400 (Wed, 16 Oct 2024) EndedAt: 2024-10-16 17:15:38 -0400 (Wed, 16 Oct 2024) EllapsedTime: 212.8 seconds RetCode: 0 Status: OK PackageFile: basecallQC_1.28.0.tar.gz PackageFileSize: 1.525 MiB