Package: basecallQC Version: 1.28.0 Maintainer: Thomas Carroll MaintainerEmail: tc.infomatics at gmail.com git_url: https://git.bioconductor.org/packages/basecallQC git_branch: RELEASE_3_19 git_last_commit: 536aad0 git_last_commit_date: 2024-04-30 10:57:34 -0400 (Tue, 30 Apr 2024)