Package: barcodetrackR Version: 1.12.0 Command: E:\biocbuild\bbs-3.19-bioc\R\bin\R.exe CMD check --no-multiarch --install=check:barcodetrackR.install-out.txt --library=E:\biocbuild\bbs-3.19-bioc\R\library --no-vignettes --timings barcodetrackR_1.12.0.tar.gz StartedAt: 2024-10-16 23:00:04 -0400 (Wed, 16 Oct 2024) EndedAt: 2024-10-16 23:03:44 -0400 (Wed, 16 Oct 2024) EllapsedTime: 220.2 seconds RetCode: 0 Status: OK CheckDir: barcodetrackR.Rcheck Warnings: 0