Package: barcodetrackR Version: 1.12.0 Command: chmod a+r barcodetrackR -R && F:\biocbuild\bbs-3.19-bioc\R\bin\R.exe CMD build --keep-empty-dirs --no-resave-data barcodetrackR StartedAt: 2024-06-26 17:13:29 -0400 (Wed, 26 Jun 2024) EndedAt: 2024-06-26 17:15:04 -0400 (Wed, 26 Jun 2024) EllapsedTime: 94.1 seconds RetCode: 0 Status: OK PackageFile: barcodetrackR_1.12.0.tar.gz PackageFileSize: 1.898 MiB