Package: banocc Version: 1.28.0 Command: E:\biocbuild\bbs-3.19-bioc\R\bin\R.exe CMD check --no-multiarch --install=check:banocc.install-out.txt --library=E:\biocbuild\bbs-3.19-bioc\R\library --no-vignettes --timings banocc_1.28.0.tar.gz StartedAt: 2024-10-16 22:59:34 -0400 (Wed, 16 Oct 2024) EndedAt: 2024-10-16 23:01:58 -0400 (Wed, 16 Oct 2024) EllapsedTime: 143.8 seconds RetCode: 0 Status: OK CheckDir: banocc.Rcheck Warnings: 0