Package: banocc Version: 1.28.0 Command: chmod a+r banocc -R && E:\biocbuild\bbs-3.19-bioc\R\bin\R.exe CMD build --keep-empty-dirs --no-resave-data banocc StartedAt: 2024-10-16 17:39:39 -0400 (Wed, 16 Oct 2024) EndedAt: 2024-10-16 17:43:38 -0400 (Wed, 16 Oct 2024) EllapsedTime: 238.5 seconds RetCode: 0 Status: OK PackageFile: banocc_1.28.0.tar.gz PackageFileSize: 25.57 MiB