Package: banocc Version: 1.28.0 Command: /home/biocbuild/bbs-3.19-bioc/R/bin/R CMD build --keep-empty-dirs --no-resave-data banocc StartedAt: 2024-10-16 17:01:07 -0400 (Wed, 16 Oct 2024) EndedAt: 2024-10-16 17:04:07 -0400 (Wed, 16 Oct 2024) EllapsedTime: 180.3 seconds RetCode: 0 Status: OK PackageFile: banocc_1.28.0.tar.gz PackageFileSize: 25.99 MiB