Package: banocc Version: 1.28.0 Command: /Library/Frameworks/R.framework/Resources/bin/R CMD INSTALL banocc StartedAt: 2024-10-16 16:11:13 -0400 (Wed, 16 Oct 2024) EndedAt: 2024-10-16 16:11:24 -0400 (Wed, 16 Oct 2024) EllapsedTime: 10.3 seconds RetCode: 0 Status: OK