Package: bandle Version: 1.8.0 Command: /home/biocbuild/bbs-3.19-bioc/R/bin/R CMD INSTALL bandle StartedAt: 2024-10-16 16:37:13 -0400 (Wed, 16 Oct 2024) EndedAt: 2024-10-16 16:38:44 -0400 (Wed, 16 Oct 2024) EllapsedTime: 91.0 seconds RetCode: 0 Status: OK