Package: bandle Version: 1.8.0 Command: /Library/Frameworks/R.framework/Resources/bin/R CMD INSTALL bandle StartedAt: 2024-10-16 16:34:33 -0400 (Wed, 16 Oct 2024) EndedAt: 2024-10-16 16:38:00 -0400 (Wed, 16 Oct 2024) EllapsedTime: 207.3 seconds RetCode: 0 Status: OK