Package: bandle Version: 1.8.0 Command: /Library/Frameworks/R.framework/Resources/bin/R CMD check --install=check:bandle.install-out.txt --library=/Library/Frameworks/R.framework/Resources/library --no-vignettes --timings bandle_1.8.0.tar.gz StartedAt: 2024-10-17 01:19:06 -0400 (Thu, 17 Oct 2024) EndedAt: 2024-10-17 01:44:34 -0400 (Thu, 17 Oct 2024) EllapsedTime: 1527.3 seconds RetCode: 0 Status: WARNINGS CheckDir: bandle.Rcheck Warnings: 1