Package: bandle Version: 1.8.0 Command: /home/biocbuild/R/R-beta-2024-04-15_r86425/bin/R CMD build --keep-empty-dirs --no-resave-data bandle StartedAt: 2024-05-08 22:27:40 -0000 (Wed, 08 May 2024) EndedAt: 2024-05-08 22:36:52 -0000 (Wed, 08 May 2024) EllapsedTime: 552.7 seconds RetCode: 0 Status: OK PackageFile: bandle_1.8.0.tar.gz PackageFileSize: 1.207 MiB