Package: bandle Version: 1.8.0 Command: /Library/Frameworks/R.framework/Resources/bin/R CMD build --keep-empty-dirs --no-resave-data bandle StartedAt: 2024-10-16 19:45:39 -0400 (Wed, 16 Oct 2024) EndedAt: 2024-10-16 19:51:42 -0400 (Wed, 16 Oct 2024) EllapsedTime: 362.4 seconds RetCode: 0 Status: OK PackageFile: bandle_1.8.0.tar.gz PackageFileSize: 1.951 MiB